BEGIN:VCALENDAR
VERSION:2.0
PRODID:-//Kemps Creek Memorial Park - ECPv6.15.13//NONSGML v1.0//EN
CALSCALE:GREGORIAN
METHOD:PUBLISH
X-WR-CALNAME:Kemps Creek Memorial Park
X-ORIGINAL-URL:https://kempscreekmemorialpark.com.au
X-WR-CALDESC:Events for Kemps Creek Memorial Park
REFRESH-INTERVAL;VALUE=DURATION:PT1H
X-Robots-Tag:noindex
X-PUBLISHED-TTL:PT1H
BEGIN:VTIMEZONE
TZID:Australia/Sydney
BEGIN:STANDARD
TZOFFSETFROM:+1100
TZOFFSETTO:+1000
TZNAME:AEST
DTSTART:20240406T160000
END:STANDARD
BEGIN:DAYLIGHT
TZOFFSETFROM:+1000
TZOFFSETTO:+1100
TZNAME:AEDT
DTSTART:20241005T160000
END:DAYLIGHT
BEGIN:STANDARD
TZOFFSETFROM:+1100
TZOFFSETTO:+1000
TZNAME:AEST
DTSTART:20250405T160000
END:STANDARD
BEGIN:DAYLIGHT
TZOFFSETFROM:+1000
TZOFFSETTO:+1100
TZNAME:AEDT
DTSTART:20251004T160000
END:DAYLIGHT
BEGIN:STANDARD
TZOFFSETFROM:+1100
TZOFFSETTO:+1000
TZNAME:AEST
DTSTART:20260404T160000
END:STANDARD
BEGIN:DAYLIGHT
TZOFFSETFROM:+1000
TZOFFSETTO:+1100
TZNAME:AEDT
DTSTART:20261003T160000
END:DAYLIGHT
END:VTIMEZONE
BEGIN:VEVENT
DTSTART;TZID=Australia/Sydney:20251102T140000
DTEND;TZID=Australia/Sydney:20251102T153000
DTSTAMP:20260422T200113
CREATED:20250919T071448Z
LAST-MODIFIED:20250919T072201Z
UID:11896-1762092000-1762097400@kempscreekmemorialpark.com.au
SUMMARY:All Souls Day – Kemps Creek Memorial Park
DESCRIPTION:Please join us for this very special All Souls Day Memorial Mass of Remembrance \nTime: 2pm\, Sunday 2nd November 2025\nWhere: The Pavilion\, Kemps Creek Memorial Park \nHospitality will be provided after mass \nRSVP for Catering purposes: By 25th October to team@griefcare.com.au \nGrief Care team members are available for pastoral support on all masses.\nP: 02 9646 6908 E:team@griefcare.com.au
URL:https://kempscreekmemorialpark.com.au/event/all-souls-day-kemps-creek-memorial-park-3/
LOCATION:Kemps Creek Memorial Park\, 230 – 260 Western Road\, Kemps Creek\, NSW\, 2178\, Australia
ATTACH;FMTTYPE=image/jpeg:https://kempscreekmemorialpark.com.au/wp-content/uploads/KCC-ASD-2024-LinkedIn-e1758266053808.jpg
END:VEVENT
END:VCALENDAR