BEGIN:VCALENDAR
VERSION:2.0
PRODID:-//Kemps Creek Memorial Park - ECPv6.15.13//NONSGML v1.0//EN
CALSCALE:GREGORIAN
METHOD:PUBLISH
X-ORIGINAL-URL:https://kempscreekmemorialpark.com.au
X-WR-CALDESC:Events for Kemps Creek Memorial Park
REFRESH-INTERVAL;VALUE=DURATION:PT1H
X-Robots-Tag:noindex
X-PUBLISHED-TTL:PT1H
BEGIN:VTIMEZONE
TZID:Australia/Sydney
BEGIN:STANDARD
TZOFFSETFROM:+1100
TZOFFSETTO:+1000
TZNAME:AEST
DTSTART:20200404T160000
END:STANDARD
BEGIN:DAYLIGHT
TZOFFSETFROM:+1000
TZOFFSETTO:+1100
TZNAME:AEDT
DTSTART:20201003T160000
END:DAYLIGHT
BEGIN:STANDARD
TZOFFSETFROM:+1100
TZOFFSETTO:+1000
TZNAME:AEST
DTSTART:20210403T160000
END:STANDARD
BEGIN:DAYLIGHT
TZOFFSETFROM:+1000
TZOFFSETTO:+1100
TZNAME:AEDT
DTSTART:20211002T160000
END:DAYLIGHT
BEGIN:STANDARD
TZOFFSETFROM:+1100
TZOFFSETTO:+1000
TZNAME:AEST
DTSTART:20220402T160000
END:STANDARD
BEGIN:DAYLIGHT
TZOFFSETFROM:+1000
TZOFFSETTO:+1100
TZNAME:AEDT
DTSTART:20221001T160000
END:DAYLIGHT
END:VTIMEZONE
BEGIN:VEVENT
DTSTART;TZID=Australia/Sydney:20211030T120000
DTEND;TZID=Australia/Sydney:20211030T130000
DTSTAMP:20260425T231429
CREATED:20211014T045131Z
LAST-MODIFIED:20211028T205047Z
UID:9206-1635595200-1635598800@kempscreekmemorialpark.com.au
SUMMARY:All Souls Day Online Memorial Mass
DESCRIPTION:Join us for our special Online All Souls Day Mass \n30th October 2021 at 12pm \nLive-Streamed from the Mausoleum of the Resurrection Chapel at Rookwood Catholic Cemetery \nCelebrant:\nMost Reverend Terence Brady  DD VG EV\nAuxiliary Bishop of Sydney \nClick here to join the Online Mass at 12pm 30th October\, 2021 \nView the Order of Service Booklet
URL:https://kempscreekmemorialpark.com.au/event/all-souls-day-online-memorial-mass/
LOCATION:NSW
ATTACH;FMTTYPE=image/jpeg:https://kempscreekmemorialpark.com.au/wp-content/uploads/All-Souls-Day-Mass-2021.jpg
END:VEVENT
END:VCALENDAR