BEGIN:VCALENDAR
VERSION:2.0
PRODID:-//Kemps Creek Memorial Park - ECPv6.15.13//NONSGML v1.0//EN
CALSCALE:GREGORIAN
METHOD:PUBLISH
X-ORIGINAL-URL:https://kempscreekmemorialpark.com.au
X-WR-CALDESC:Events for Kemps Creek Memorial Park
REFRESH-INTERVAL;VALUE=DURATION:PT1H
X-Robots-Tag:noindex
X-PUBLISHED-TTL:PT1H
BEGIN:VTIMEZONE
TZID:Australia/Sydney
BEGIN:STANDARD
TZOFFSETFROM:+1100
TZOFFSETTO:+1000
TZNAME:AEST
DTSTART:20230401T160000
END:STANDARD
BEGIN:DAYLIGHT
TZOFFSETFROM:+1000
TZOFFSETTO:+1100
TZNAME:AEDT
DTSTART:20230930T160000
END:DAYLIGHT
BEGIN:STANDARD
TZOFFSETFROM:+1100
TZOFFSETTO:+1000
TZNAME:AEST
DTSTART:20240406T160000
END:STANDARD
BEGIN:DAYLIGHT
TZOFFSETFROM:+1000
TZOFFSETTO:+1100
TZNAME:AEDT
DTSTART:20241005T160000
END:DAYLIGHT
BEGIN:STANDARD
TZOFFSETFROM:+1100
TZOFFSETTO:+1000
TZNAME:AEST
DTSTART:20250405T160000
END:STANDARD
BEGIN:DAYLIGHT
TZOFFSETFROM:+1000
TZOFFSETTO:+1100
TZNAME:AEDT
DTSTART:20251004T160000
END:DAYLIGHT
END:VTIMEZONE
BEGIN:VEVENT
DTSTART;TZID=Australia/Sydney:20241126T180000
DTEND;TZID=Australia/Sydney:20241126T190000
DTSTAMP:20260426T091335
CREATED:20241030T111411Z
LAST-MODIFIED:20241030T111411Z
UID:11339-1732644000-1732647600@kempscreekmemorialpark.com.au
SUMMARY:Taizé Prayer Service
DESCRIPTION:Please join us for this special Taizé Prayer Service. \nThe style of prayer on this evening originated in Taizé\, a small village located in the Burgundy region of France. \nWhen: Tuesday 26th November 2024\nTime: 6pm\nWhere: St Michael the Archangel Chapel\, Rookwood Catholic Cemetery \n\nGrief Care team members are available for pastoral support on all masses.\nP: 02 9646 6908 E: team@griefcare.com.au
URL:https://kempscreekmemorialpark.com.au/event/taize-prayer-service-2/
LOCATION:Rookwood Catholic Cemetery\, Barnet Avenue\, Rookwood\, NSW\, 2141\, Australia
ATTACH;FMTTYPE=image/jpeg:https://kempscreekmemorialpark.com.au/wp-content/uploads/Grief-care-TAIZE-Prayer.jpg
END:VEVENT
END:VCALENDAR