BEGIN:VCALENDAR
VERSION:2.0
PRODID:-//Kemps Creek Memorial Park - ECPv6.15.13//NONSGML v1.0//EN
CALSCALE:GREGORIAN
METHOD:PUBLISH
X-WR-CALNAME:Kemps Creek Memorial Park
X-ORIGINAL-URL:https://kempscreekmemorialpark.com.au
X-WR-CALDESC:Events for Kemps Creek Memorial Park
REFRESH-INTERVAL;VALUE=DURATION:PT1H
X-Robots-Tag:noindex
X-PUBLISHED-TTL:PT1H
BEGIN:VTIMEZONE
TZID:Australia/Sydney
BEGIN:STANDARD
TZOFFSETFROM:+1100
TZOFFSETTO:+1000
TZNAME:AEST
DTSTART:20240406T160000
END:STANDARD
BEGIN:DAYLIGHT
TZOFFSETFROM:+1000
TZOFFSETTO:+1100
TZNAME:AEDT
DTSTART:20241005T160000
END:DAYLIGHT
BEGIN:STANDARD
TZOFFSETFROM:+1100
TZOFFSETTO:+1000
TZNAME:AEST
DTSTART:20250405T160000
END:STANDARD
BEGIN:DAYLIGHT
TZOFFSETFROM:+1000
TZOFFSETTO:+1100
TZNAME:AEDT
DTSTART:20251004T160000
END:DAYLIGHT
BEGIN:STANDARD
TZOFFSETFROM:+1100
TZOFFSETTO:+1000
TZNAME:AEST
DTSTART:20260404T160000
END:STANDARD
BEGIN:DAYLIGHT
TZOFFSETFROM:+1000
TZOFFSETTO:+1100
TZNAME:AEDT
DTSTART:20261003T160000
END:DAYLIGHT
END:VTIMEZONE
BEGIN:VEVENT
DTSTART;TZID=Australia/Sydney:20251007T190000
DTEND;TZID=Australia/Sydney:20251007T210000
DTSTAMP:20260426T015531
CREATED:20250919T064413Z
LAST-MODIFIED:20250919T064413Z
UID:11876-1759863600-1759870800@kempscreekmemorialpark.com.au
SUMMARY:Compassionate Companions Mens Group
DESCRIPTION:Join us for our Compassionate Companions Mens Group \nInviting men who are experiencing Grief and Loss\, to come together in a safe and welcoming space.\nNo judgements. No fixing. Just listening and walking alongside each other in grief. \nWhen: First Tuesday of the month\nTime:  From 7pm – 9pm\nWhere: St Joachim’s Parish Lidcombe\, 2 Mills Street Lidcombe \nHospitality included \nFor further information contact Grief Care on Ph: 02 9646 6908  or E: team@griefcare.com.au \nGrief Care team members are available for pastoral support on all masses.
URL:https://kempscreekmemorialpark.com.au/event/compassionate-companions-mens-group-8/
LOCATION:St Joachim’s Parish Lidcombe\, 2 Mills Street\, Lidcombe\, NSW\, 2141\, Australia
ATTACH;FMTTYPE=image/jpeg:https://kempscreekmemorialpark.com.au/wp-content/uploads/GC-Mens-Group-0125.jpg
END:VEVENT
BEGIN:VEVENT
DTSTART;TZID=Australia/Sydney:20251010T113000
DTEND;TZID=Australia/Sydney:20251010T123000
DTSTAMP:20260426T015531
CREATED:20250919T064659Z
LAST-MODIFIED:20250919T064714Z
UID:11878-1760095800-1760099400@kempscreekmemorialpark.com.au
SUMMARY:Compassionate Companions Online
DESCRIPTION:Join us for our Online Compassionate Companions \nAn opportunity to gather in a safe space to connect with others and share experiences of loss\, grief and bereavement. \nWhen: Second Friday of the month\nTime: From 11.30am – 12.30pm Via Zoom \nJOIN THE MEETING NOW\nFor further information contact Grief Care on Ph: 02 9646 6908  or E: team@griefcare.com.au\nGrief Care team members are available for pastoral support on all masses.
URL:https://kempscreekmemorialpark.com.au/event/compassionate-companions-online-8/
LOCATION:NSW
ATTACH;FMTTYPE=image/jpeg:https://kempscreekmemorialpark.com.au/wp-content/uploads/omp-Companions-Online-1.jpg
END:VEVENT
BEGIN:VEVENT
DTSTART;TZID=Australia/Sydney:20251014T193000
DTEND;TZID=Australia/Sydney:20251014T203000
DTSTAMP:20260426T015531
CREATED:20250919T065327Z
LAST-MODIFIED:20250919T065327Z
UID:11880-1760470200-1760473800@kempscreekmemorialpark.com.au
SUMMARY:Remembering Our Babies – All Saints Liverpool
DESCRIPTION:We hope you can join us for at our special Remembering Our Babies Service for Pregnancy\, Infant & Child Loss \nWhen: 7.30pm\, 14th October\, 2025\nWhere: All Saints Catholic Parish\n48 George Street\, Liverpool \nAll are Welcome\n\nGrief Care team members are available for pastoral support on all masses.\nP: 02 9646 6908 E:team@griefcare.com.au
URL:https://kempscreekmemorialpark.com.au/event/remembering-our-babies-all-saints-liverpool/
LOCATION:All Saints Parish Liverpool\, 48 George Street\, Liverpool\, NSW\, 2170\, Australia
ATTACH;FMTTYPE=image/jpeg:https://kempscreekmemorialpark.com.au/wp-content/uploads/CCC-ROB-2024-FB2-e1758264780487.jpg
END:VEVENT
BEGIN:VEVENT
DTSTART;TZID=Australia/Sydney:20251015T183000
DTEND;TZID=Australia/Sydney:20251015T200000
DTSTAMP:20260426T015531
CREATED:20250919T065701Z
LAST-MODIFIED:20250919T070243Z
UID:11883-1760553000-1760558400@kempscreekmemorialpark.com.au
SUMMARY:Wave of Light – Rookwood
DESCRIPTION:We hope you can join us for at our special Memorial Service for Pregnancy\, Infant & Child Loss \nWhen: 6.30pm\, 15th October\, 2025 \nWhere: St Gerald Majella Lawn\, Rookwood Catholic Cemetery \nGrief Care team members are available for pastoral support on all masses.\nP: 02 9646 6908 E:team@griefcare.com.au
URL:https://kempscreekmemorialpark.com.au/event/wave-of-light-rookwood-2/
LOCATION:Rookwood Catholic Cemetery\, Barnet Avenue\, Rookwood\, NSW\, 2141\, Australia
ATTACH;FMTTYPE=image/jpeg:https://kempscreekmemorialpark.com.au/wp-content/uploads/CCC-Wave-Light-FB-e1758264999730.jpg
END:VEVENT
BEGIN:VEVENT
DTSTART;TZID=Australia/Sydney:20251016T111500
DTEND;TZID=Australia/Sydney:20251016T123000
DTSTAMP:20260426T015531
CREATED:20250919T070924Z
LAST-MODIFIED:20250919T070924Z
UID:11893-1760613300-1760617800@kempscreekmemorialpark.com.au
SUMMARY:Compassionate Companions Kemps Creek
DESCRIPTION:An opportunity to gather in a safe space to connect with others and share experiences of loss\, grief and bereavement. \nWhen: Every 3rd Thursday of the month following the Monthly Mass\nTime: 11.15am – 12.30pm \nWhere: Our Lady of Victories Catholic Parish\n1788 The Horsley Drive\, Horsley Park 2175 \nMorning tea provided \nRSVP:\nGrief Care: Phone 9646 6908\nCarmela: 0498 271 649\nEmail: carmela@catholiccemeteries.com.au
URL:https://kempscreekmemorialpark.com.au/event/compassionate-companions-kemps-creek-20/
LOCATION:Our Lady of Victories Parish Church\, 1788 The Horsley Drive\, Horsley Park\, NSW\, 2175\, Australia
ATTACH;FMTTYPE=image/jpeg:https://kempscreekmemorialpark.com.au/wp-content/uploads/compassionate-Companions-Kemps.jpg
END:VEVENT
BEGIN:VEVENT
DTSTART;TZID=Australia/Sydney:20251025T100000
DTEND;TZID=Australia/Sydney:20251025T110000
DTSTAMP:20260426T015531
CREATED:20250919T070112Z
LAST-MODIFIED:20250919T070112Z
UID:11886-1761386400-1761390000@kempscreekmemorialpark.com.au
SUMMARY:Pregnancy\, Infant and Child Loss Mass – Oran Park
DESCRIPTION:Please join us for this very special Mass\n\nWhen: 25 October 2025 at 10am\nWhere: St Mary MacKillop Catholic Parish\n94 Oran Park Drive\, Oran Park NSW 2570\nPresider: Feleki Fr Tautunu\n\nGrief Care team members are available for pastoral support on all masses.\n\n\nP: 02 9646 6908 E:team@griefcare.com.au\n\n\n\nProudly brought to you by Catholic Cemeteries + Crematoria\, Grief Care\, Kenneally’s Funerals and St Mary McKillop Catholic Parish Church
URL:https://kempscreekmemorialpark.com.au/event/pregnancy-infant-and-child-loss-mass-oran-park/
LOCATION:St Mary MacKillop Catholic Parish\, 94 Oran Park Drive\, Oran Park\, NSW\, 2570\, Australia
ATTACH;FMTTYPE=image/jpeg:https://kempscreekmemorialpark.com.au/wp-content/uploads/Pregnance-Infant-OranPark.jpg
END:VEVENT
END:VCALENDAR