BEGIN:VCALENDAR
VERSION:2.0
PRODID:-//Kemps Creek Memorial Park - ECPv6.15.13//NONSGML v1.0//EN
CALSCALE:GREGORIAN
METHOD:PUBLISH
X-ORIGINAL-URL:https://kempscreekmemorialpark.com.au
X-WR-CALDESC:Events for Kemps Creek Memorial Park
REFRESH-INTERVAL;VALUE=DURATION:PT1H
X-Robots-Tag:noindex
X-PUBLISHED-TTL:PT1H
BEGIN:VTIMEZONE
TZID:Australia/Sydney
BEGIN:STANDARD
TZOFFSETFROM:+1100
TZOFFSETTO:+1000
TZNAME:AEST
DTSTART:20240406T160000
END:STANDARD
BEGIN:DAYLIGHT
TZOFFSETFROM:+1000
TZOFFSETTO:+1100
TZNAME:AEDT
DTSTART:20241005T160000
END:DAYLIGHT
BEGIN:STANDARD
TZOFFSETFROM:+1100
TZOFFSETTO:+1000
TZNAME:AEST
DTSTART:20250405T160000
END:STANDARD
BEGIN:DAYLIGHT
TZOFFSETFROM:+1000
TZOFFSETTO:+1100
TZNAME:AEDT
DTSTART:20251004T160000
END:DAYLIGHT
BEGIN:STANDARD
TZOFFSETFROM:+1100
TZOFFSETTO:+1000
TZNAME:AEST
DTSTART:20260404T160000
END:STANDARD
BEGIN:DAYLIGHT
TZOFFSETFROM:+1000
TZOFFSETTO:+1100
TZNAME:AEDT
DTSTART:20261003T160000
END:DAYLIGHT
END:VTIMEZONE
BEGIN:VEVENT
DTSTART;TZID=Australia/Sydney:20250902T190000
DTEND;TZID=Australia/Sydney:20250902T210000
DTSTAMP:20260425T203004
CREATED:20250811T040946Z
LAST-MODIFIED:20250811T040946Z
UID:11770-1756839600-1756846800@kempscreekmemorialpark.com.au
SUMMARY:Compassionate Companions Mens Group
DESCRIPTION:Join us for our Compassionate Companions Mens Group \nInviting men who are experiencing Grief and Loss\, to come together in a safe and welcoming space.\nNo judgements. No fixing. Just listening and walking alongside each other in grief. \nWhen: First Tuesday of the month\nTime:  From 7pm – 9pm\nWhere: St Joachim’s Parish Lidcombe\, 2 Mills Street Lidcombe \nHospitality included \nFor further information contact Grief Care on Ph: 02 9646 6908  or E: team@griefcare.com.au \nGrief Care team members are available for pastoral support on all masses.
URL:https://kempscreekmemorialpark.com.au/event/compassionate-companions-mens-group-7/
LOCATION:St Joachim’s Parish Lidcombe\, 2 Mills Street\, Lidcombe\, NSW\, 2141\, Australia
ATTACH;FMTTYPE=image/jpeg:https://kempscreekmemorialpark.com.au/wp-content/uploads/GC-Mens-Group-0125.jpg
END:VEVENT
BEGIN:VEVENT
DTSTART;TZID=Australia/Sydney:20250906T103000
DTEND;TZID=Australia/Sydney:20250906T130000
DTSTAMP:20260425T203004
CREATED:20250730T042911Z
LAST-MODIFIED:20250811T044731Z
UID:11752-1757154600-1757163600@kempscreekmemorialpark.com.au
SUMMARY:Father’s Day Memorial Mass Kemps Creek
DESCRIPTION:Join us for our special Father’s Day Mass\nFather’s Day is a special day for many to reflect and show their love and appreciation to fathers\, grandfathers and father figures who may no longer be with us. \nTime: 10.30am\, 6th September 2025\nWhere: The Pavilion\, Kemps Creek Memorial Park \nHospitality provided after mass \nFor catering purposes please RSVP: By 29th August to admin@kempscreekcemetery.com.au \nGrief Care team members are available for pastoral support on all masses.\nP: 02 9646 6908 E:team@griefcare.com.au
URL:https://kempscreekmemorialpark.com.au/event/fathers-day-memorial-mass-kemps-creek-2/
LOCATION:Kemps Creek Memorial Park\, 230 – 260 Western Road\, Kemps Creek\, NSW\, 2178\, Australia
ATTACH;FMTTYPE=image/jpeg:https://kempscreekmemorialpark.com.au/wp-content/uploads/FathersDay-2025-Web.jpg
END:VEVENT
BEGIN:VEVENT
DTSTART;TZID=Australia/Sydney:20250910T183000
DTEND;TZID=Australia/Sydney:20250910T193000
DTSTAMP:20260425T203004
CREATED:20250721T023831Z
LAST-MODIFIED:20250731T001106Z
UID:11738-1757529000-1757532600@kempscreekmemorialpark.com.au
SUMMARY:10th Anniversary – Mention My Name Memorial Service
DESCRIPTION:10th Anniversary Mention My Name Memorial Service  \nA Remembrance Service for those who have lost their lives through suicide and misadventure\, and those who grieve \nCatholic Cemeteries + Crematoria and Grief Care invite you to join us in reflective remembrance as we gather to honour the lives of loved ones lost to suicide or misadventure\, and to offer comfort\, compassion\, and hope to their families\, friends\, caregivers\, and first responders. \n\nWednesday 10 September 2025\n6:30pm arrival for a 7:00pm start\nSt Mary’s Cathedral\, St Mary’s Road\, Sydney\n\nRSVP by Wednesday\, 27 August 2025  to Grief Care | team@griefcare.com.au | 02 9646 6908
URL:https://kempscreekmemorialpark.com.au/event/10th-anniversary-mention-my-name-memorial-service/
LOCATION:St Mary’s Cathedal Sydney NSW 2000\, 2 Saint Marys Road\, Sydney\, NSW\, 2000\, Australia
ATTACH;FMTTYPE=image/jpeg:https://kempscreekmemorialpark.com.au/wp-content/uploads/CCC-MMYNAME-ST-MARYS-FB-1-e1753920620722.jpg
END:VEVENT
BEGIN:VEVENT
DTSTART;TZID=Australia/Sydney:20250912T113000
DTEND;TZID=Australia/Sydney:20250912T123000
DTSTAMP:20260425T203004
CREATED:20250811T041217Z
LAST-MODIFIED:20250811T041217Z
UID:11773-1757676600-1757680200@kempscreekmemorialpark.com.au
SUMMARY:Compassionate Companions Online
DESCRIPTION:Join us for our Online Compassionate Companions \nAn opportunity to gather in a safe space to connect with others and share experiences of loss\, grief and bereavement. \nWhen: Second Friday of the month\nTime: From 11.30am – 12.30pm Via Zoom \nJOIN THE MEETING NOW\nFor further information contact Grief Care on Ph: 02 9646 6908  or E: team@griefcare.com.au\nGrief Care team members are available for pastoral support on all masses.
URL:https://kempscreekmemorialpark.com.au/event/compassionate-companions-online-7/
LOCATION:NSW
ATTACH;FMTTYPE=image/jpeg:https://kempscreekmemorialpark.com.au/wp-content/uploads/omp-Companions-Online-1.jpg
END:VEVENT
BEGIN:VEVENT
DTSTART;TZID=Australia/Sydney:20250913T093000
DTEND;TZID=Australia/Sydney:20250913T103000
DTSTAMP:20260425T203004
CREATED:20250902T224517Z
LAST-MODIFIED:20250902T224517Z
UID:11830-1757755800-1757759400@kempscreekmemorialpark.com.au
SUMMARY:Mention My Name Service – Ruse
DESCRIPTION:Please join us for this Parish Memorial Mass for those grieving a death from suicide \nWhen: 9-30am\, 13th September\, 2025\nWhere: St Thomas More Catholic Church\nPresider: Fr Michael Healy \nGrief Care team members are available for pastoral support on all masses.\nP: 02 9646 6908 E: team@griefcare.com.au
URL:https://kempscreekmemorialpark.com.au/event/mention-my-name-service-ruse/
LOCATION:St Thomas More Catholic Church\, 43 Acacia Avenue\, Ruse\, NSW\, 2560\, Australia
ATTACH;FMTTYPE=image/jpeg:https://kempscreekmemorialpark.com.au/wp-content/uploads/CCC-MMN-fb-e1661550725264.jpg
END:VEVENT
BEGIN:VEVENT
DTSTART;TZID=Australia/Sydney:20250918T103000
DTEND;TZID=Australia/Sydney:20250918T111500
DTSTAMP:20260425T203004
CREATED:20250811T042327Z
LAST-MODIFIED:20250811T043555Z
UID:11781-1758191400-1758194100@kempscreekmemorialpark.com.au
SUMMARY:Monthly Mass – Kemps Creek Memorial Park
DESCRIPTION:Please join us for our Monthly Mass every 3rd Thursday of every month\nTime: 10.30am\nWhere: Our Lady of Victories Catholic Parish\n1788 The Horsley Drive\, Horsley Park 2175\nPresider: Fr Dominik Karnas \n– Hospitality provided after mass for community gathering\n– Onsite parking available \nGrief Care team members are available for pastoral support on all masses.\nP: 02 9646 6908 E: team@griefcare.com.au
URL:https://kempscreekmemorialpark.com.au/event/monthly-mass-kemps-creek-memorial-park-29/
LOCATION:Our Lady of Victories Parish Church\, 1788 The Horsley Drive\, Horsley Park\, NSW\, 2175\, Australia
ATTACH;FMTTYPE=image/jpeg:https://kempscreekmemorialpark.com.au/wp-content/uploads/events.jpg
END:VEVENT
BEGIN:VEVENT
DTSTART;TZID=Australia/Sydney:20250918T111500
DTEND;TZID=Australia/Sydney:20250918T123000
DTSTAMP:20260425T203004
CREATED:20250811T041900Z
LAST-MODIFIED:20250811T041900Z
UID:11778-1758194100-1758198600@kempscreekmemorialpark.com.au
SUMMARY:Compassionate Companions Kemps Creek
DESCRIPTION:An opportunity to gather in a safe space to connect with others and share experiences of loss\, grief and bereavement. \nWhen: Every 3rd Thursday of the month following the Monthly Mass\nTime: 11.15am – 12.30pm \nWhere: Our Lady of Victories Catholic Parish\n1788 The Horsley Drive\, Horsley Park 2175 \nMorning tea provided \nRSVP:\nGrief Care: Phone 9646 6908\nCarmela: 0498 271 649\nEmail: carmela@catholiccemeteries.com.au
URL:https://kempscreekmemorialpark.com.au/event/compassionate-companions-kemps-creek-19/
LOCATION:Our Lady of Victories Parish Church\, 1788 The Horsley Drive\, Horsley Park\, NSW\, 2175\, Australia
ATTACH;FMTTYPE=image/jpeg:https://kempscreekmemorialpark.com.au/wp-content/uploads/compassionate-Companions-Kemps.jpg
END:VEVENT
END:VCALENDAR